BEGIN:VCALENDAR
VERSION:2.0
PRODID:-//Tukios.com/
BEGIN:VEVENT
UID:33725f0d-0195-414e-9da3-32253c4b7ad7@www.oconnellfuneralhomes.com
DTSTAMP:20260420T080441Z
DTSTART:20260423T150000Z
DTEND:20260423T160000Z
SUMMARY:Visitation
DESCRIPTION:
URL:https://www.oconnellfuneralhomes.com/obituaries/audrey-halverson
LOCATION: N6450 530th Street  Beldenville WI 54003
GEO:44.7736798;-92.3950498
END:VEVENT
END:VCALENDAR