BEGIN:VCALENDAR
VERSION:2.0
PRODID:-//Tukios.com/
BEGIN:VEVENT
UID:f4ec25d8-2ecd-4a75-af1a-7a154eae7351@www.oconnellfuneralhomes.com
DTSTAMP:20260424T221640Z
DTSTART:20260501T180000Z
DTEND:20260501T210000Z
SUMMARY:Celebration of Life
DESCRIPTION:Memory sharing at 3:00 PM
URL:https://www.oconnellfuneralhomes.com/obituaries/collin-napier
LOCATION: 1010 Newton Street  Baldwin WI 54002
GEO:44.9688813;-92.3757317
END:VEVENT
END:VCALENDAR