BEGIN:VCALENDAR
VERSION:2.0
PRODID:-//Tukios.com/
BEGIN:VEVENT
UID:6cfa8511-98bf-40ef-b66c-7f7edbe87962@www.oconnellfuneralhomes.com
DTSTAMP:20260424T235638Z
DTSTART:20260620T173000Z
DTEND:20260620T183000Z
SUMMARY:Burial
DESCRIPTION:
URL:https://www.oconnellfuneralhomes.com/obituaries/duane-pechacek
LOCATION:St. Bridgets Cemetery   River Falls WI 54022
GEO:44.8596311;-92.6254966
END:VEVENT
END:VCALENDAR