BEGIN:VCALENDAR
VERSION:2.0
PRODID:-//Tukios.com/
BEGIN:VEVENT
UID:1200d365-cce0-452a-ba43-e2d4b3d2bd6a@www.oconnellfuneralhomes.com
DTSTAMP:20260423T181255Z
DTSTART:20260507T190000Z
DTEND:20260507T200000Z
SUMMARY:Visitation
DESCRIPTION:
URL:https://www.oconnellfuneralhomes.com/obituaries/gail-mcdonald
LOCATION: 520 11th Street South  Hudson WI 54016
GEO:44.9661585;-92.7431521
END:VEVENT
END:VCALENDAR