BEGIN:VCALENDAR
VERSION:2.0
PRODID:-//Tukios.com/
BEGIN:VEVENT
UID:fe5605cc-cdae-4154-ae3f-0800963c61a0@www.oconnellfuneralhomes.com
DTSTAMP:20260423T181542Z
DTSTART:20260507T200000Z
DTEND:20260507T210000Z
SUMMARY:Memorial Service
DESCRIPTION:
URL:https://www.oconnellfuneralhomes.com/obituaries/gail-mcdonald
LOCATION: 520 11th Street South  Hudson WI 54016
GEO:44.9661585;-92.7431521
END:VEVENT
END:VCALENDAR