BEGIN:VCALENDAR
VERSION:2.0
PRODID:-//Tukios.com/
BEGIN:VEVENT
UID:5d9fdb7e-604b-4112-b300-4271cec84c08@www.oconnellfuneralhomes.com
DTSTAMP:20260420T194722Z
DTSTART:20260425T150000Z
DTEND:20260425T160000Z
SUMMARY:Visitation
DESCRIPTION:
URL:https://www.oconnellfuneralhomes.com/obituaries/leslie-rose
LOCATION: 1500 Vine Street  Hudson WI 54016
GEO:44.976908;-92.735986
END:VEVENT
END:VCALENDAR