BEGIN:VCALENDAR
VERSION:2.0
PRODID:-//Tukios.com/
BEGIN:VEVENT
UID:082e10d7-636a-4600-8593-f1580a8a84de@www.oconnellfuneralhomes.com
DTSTAMP:20260420T194722Z
DTSTART:20260425T160000Z
DTEND:20260425T170000Z
SUMMARY:Mass
DESCRIPTION:
URL:https://www.oconnellfuneralhomes.com/obituaries/leslie-rose
LOCATION: 1500 Vine Street  Hudson WI 54016
GEO:44.976908;-92.735986
END:VEVENT
END:VCALENDAR