BEGIN:VCALENDAR
VERSION:2.0
PRODID:-//Tukios.com/
BEGIN:VEVENT
UID:c8cde435-479d-447b-8598-9df4a96e6634@www.oconnellfuneralhomes.com
DTSTAMP:20260421T102547Z
DTSTART:20260421T160000Z
DTEND:20260421T170000Z
SUMMARY:Burial
DESCRIPTION:
URL:https://www.oconnellfuneralhomes.com/obituaries/paul-deal
LOCATION: Division Street  River Falls WI 54022
GEO:44.8626399;-92.6093768
END:VEVENT
END:VCALENDAR